BEGIN:VCALENDAR
VERSION:2.0
PRODID:-//NADI Taman Salam Nadiah - ECPv6.15.20//NONSGML v1.0//EN
CALSCALE:GREGORIAN
METHOD:PUBLISH
X-WR-CALNAME:NADI Taman Salam Nadiah
X-ORIGINAL-URL:https://tmnsalamnadiah.nadi.my
X-WR-CALDESC:Events for NADI Taman Salam Nadiah
REFRESH-INTERVAL;VALUE=DURATION:PT1H
X-Robots-Tag:noindex
X-PUBLISHED-TTL:PT1H
BEGIN:VTIMEZONE
TZID:UTC
BEGIN:STANDARD
TZOFFSETFROM:+0000
TZOFFSETTO:+0000
TZNAME:UTC
DTSTART:20230101T000000
END:STANDARD
END:VTIMEZONE
BEGIN:VEVENT
DTSTART;TZID=UTC:20240405T113000
DTEND;TZID=UTC:20240405T123000
DTSTAMP:20260424T050725
CREATED:20240503T104340Z
LAST-MODIFIED:20240503T104340Z
UID:1417-1712316600-1712320200@tmnsalamnadiah.nadi.my
SUMMARY:SOFT SKILL:  Kreativiti
DESCRIPTION:Tujuan kreativiti adalah untuk meningkatkan Kemahiran berfikiran kreatif\, kerjasama\, komunikasi\, kepercayaan\, motivasi\, kemahiran pemecahan masalah\, kepimpinan\, kepelbagaian\, prestasi\, dan identiti organisasi.
URL:https://tmnsalamnadiah.nadi.my/event/soft-skill-kreativiti/
LOCATION:NADI TAMAN SALAM NADIAH\, NADI TAMAN SALAM NADIAH
CATEGORIES:DEFAULT
END:VEVENT
BEGIN:VEVENT
DTSTART;TZID=UTC:20240329T000000
DTEND;TZID=UTC:20240329T130000
DTSTAMP:20260424T050725
CREATED:20240401T143020Z
LAST-MODIFIED:20240401T143020Z
UID:1399-1711670400-1711717200@tmnsalamnadiah.nadi.my
SUMMARY:E-Learning: Cam scanner
DESCRIPTION:Memperkenalkan aplikasi mudah untuk scan dokumen
URL:https://tmnsalamnadiah.nadi.my/event/e-learning-cam-scanner/
LOCATION:NADI TAMAN SALAM NADIAH\, NADI TAMAN SALAM NADIAH
CATEGORIES:DEFAULT
END:VEVENT
BEGIN:VEVENT
DTSTART;TZID=UTC:20240322T103000
DTEND;TZID=UTC:20240322T113000
DTSTAMP:20260424T050725
CREATED:20240401T134920Z
LAST-MODIFIED:20240401T134920Z
UID:1394-1711103400-1711107000@tmnsalamnadiah.nadi.my
SUMMARY:Kelas keusahawan: Digital Marketing
DESCRIPTION:Menerangkan pada usahawan Digital Marketing.
URL:https://tmnsalamnadiah.nadi.my/event/kelas-keusahawan-digital-marketing/
LOCATION:NADI TAMAN SALAM NADIAH\, NADI TAMAN SALAM NADIAH
CATEGORIES:DEFAULT
END:VEVENT
BEGIN:VEVENT
DTSTART;TZID=UTC:20240320T153000
DTEND;TZID=UTC:20240320T163000
DTSTAMP:20260424T050725
CREATED:20240401T135104Z
LAST-MODIFIED:20240401T135104Z
UID:1395-1710948600-1710952200@tmnsalamnadiah.nadi.my
SUMMARY:Kelas keusahawanan: NADI sebagai pusat aktiviti
DESCRIPTION:Memperkenalkan fungsi NADI kepada perniagaan beliau
URL:https://tmnsalamnadiah.nadi.my/event/kelas-keusahawanan-nadi-sebagai-pusat-aktiviti/
LOCATION:NADI TAMAN SALAM NADIAH\, NADI TAMAN SALAM NADIAH
CATEGORIES:DEFAULT
END:VEVENT
BEGIN:VEVENT
DTSTART;TZID=UTC:20240318T153000
DTEND;TZID=UTC:20240318T163000
DTSTAMP:20260424T050725
CREATED:20240401T142907Z
LAST-MODIFIED:20240401T142907Z
UID:1398-1710775800-1710779400@tmnsalamnadiah.nadi.my
SUMMARY:E-Learning: Kelas Spelling English
DESCRIPTION:Mengasah Kemahiran mengeja dan mengingati
URL:https://tmnsalamnadiah.nadi.my/event/e-learning-kelas-spelling-english/
LOCATION:NADI TAMAN SALAM NADIAH\, NADI TAMAN SALAM NADIAH
CATEGORIES:DEFAULT
END:VEVENT
BEGIN:VEVENT
DTSTART;TZID=UTC:20240315T160000
DTEND;TZID=UTC:20240315T170000
DTSTAMP:20260424T050725
CREATED:20240401T143128Z
LAST-MODIFIED:20240401T143128Z
UID:1400-1710518400-1710522000@tmnsalamnadiah.nadi.my
SUMMARY:E-Learning: English\, Basic Communication
DESCRIPTION:Memberi pendedahan kepada pelajar berkaitan komunikasi yang mudah dalam Bahasa English untuk digunakan dalam kehidupan seharian.
URL:https://tmnsalamnadiah.nadi.my/event/e-learning-english-basic-communication/
LOCATION:NADI TAMAN SALAM NADIAH\, NADI TAMAN SALAM NADIAH
CATEGORIES:DEFAULT
END:VEVENT
BEGIN:VEVENT
DTSTART;TZID=UTC:20240309T140000
DTEND;TZID=UTC:20240309T150000
DTSTAMP:20260424T050725
CREATED:20240401T135346Z
LAST-MODIFIED:20240401T135346Z
UID:1397-1709992800-1709996400@tmnsalamnadiah.nadi.my
SUMMARY:Asas ICT: Cara -Cara Pengisian e-Hasil dan mencetak dokumen
DESCRIPTION:Mempermudahkan dan membantu pengisisan e-Hasil melalui online
URL:https://tmnsalamnadiah.nadi.my/event/asas-ict-cara-cara-pengisian-e-hasil-dan-mencetak-dokumen/
LOCATION:NADI TAMAN SALAM NADIAH\, NADI TAMAN SALAM NADIAH
CATEGORIES:DEFAULT
END:VEVENT
BEGIN:VEVENT
DTSTART;TZID=UTC:20240306T140000
DTEND;TZID=UTC:20240306T150000
DTSTAMP:20260424T050725
CREATED:20240401T143237Z
LAST-MODIFIED:20240401T143237Z
UID:1401-1709733600-1709737200@tmnsalamnadiah.nadi.my
SUMMARY:SOFT SKILL: Kelas Adzan
DESCRIPTION:Meningkatkan kemahiran komunikasi pelajar melalui latihan pengucapan yang jelas dan terancang serta memupuk keyakinan diri mereka dalam berkomunikasi di hadapan orang ramai.
URL:https://tmnsalamnadiah.nadi.my/event/soft-skill-kelas-adzan/
LOCATION:NADI TAMAN SALAM NADIAH\, NADI TAMAN SALAM NADIAH
CATEGORIES:DEFAULT
END:VEVENT
BEGIN:VEVENT
DTSTART;TZID=UTC:20240306T113000
DTEND;TZID=UTC:20240306T123000
DTSTAMP:20260424T050725
CREATED:20240401T144828Z
LAST-MODIFIED:20240401T144828Z
UID:1405-1709724600-1709728200@tmnsalamnadiah.nadi.my
SUMMARY:STEM IOT: Roket Belon
DESCRIPTION:Memperkenalkan konsep kejuruteraan dan teknologi secara praktikal.
URL:https://tmnsalamnadiah.nadi.my/event/stem-iot-roket-belon/
LOCATION:NADI TAMAN SALAM NADIAH\, NADI TAMAN SALAM NADIAH
CATEGORIES:DEFAULT
END:VEVENT
BEGIN:VEVENT
DTSTART;TZID=UTC:20240306T110000
DTEND;TZID=UTC:20240306T120000
DTSTAMP:20260424T050725
CREATED:20240401T144508Z
LAST-MODIFIED:20240401T144508Z
UID:1403-1709722800-1709726400@tmnsalamnadiah.nadi.my
SUMMARY:STEM IOT: Membina Binaan
DESCRIPTION:Bertujuan merangsang peserta berfikiran kreatif untuk membina binaan mengikut kreativiti masing-masing.
URL:https://tmnsalamnadiah.nadi.my/event/stem-iot-membina-binaan/
LOCATION:NADI TAMAN SALAM NADIAH\, NADI TAMAN SALAM NADIAH
CATEGORIES:DEFAULT
END:VEVENT
BEGIN:VEVENT
DTSTART;TZID=UTC:20240306T110000
DTEND;TZID=UTC:20240306T120000
DTSTAMP:20260424T050725
CREATED:20240401T143343Z
LAST-MODIFIED:20240401T143343Z
UID:1402-1709722800-1709726400@tmnsalamnadiah.nadi.my
SUMMARY:SOFT SKILL:  Team Bulding
DESCRIPTION:Tujuan team building adalah untuk meningkatkan kerjasama\, komunikasi\, kepercayaan\, motivasi\, kemahiran pemecahan masalah\, kepimpinan\, kepelbagaian\, prestasi\, dan identiti organisasi.
URL:https://tmnsalamnadiah.nadi.my/event/soft-skill-team-bulding/
LOCATION:NADI TAMAN SALAM NADIAH\, NADI TAMAN SALAM NADIAH
CATEGORIES:DEFAULT
END:VEVENT
BEGIN:VEVENT
DTSTART;TZID=UTC:20240305T110000
DTEND;TZID=UTC:20240305T120000
DTSTAMP:20260424T050725
CREATED:20240401T134713Z
LAST-MODIFIED:20240401T134713Z
UID:1393-1709636400-1709640000@tmnsalamnadiah.nadi.my
SUMMARY:Kelas keusahawan: Modal Perniagaan
DESCRIPTION:Penerangan berkaitan modal perniagaan yang boleh usahawan mohon bagi membantu memperkembangkan perniagaan
URL:https://tmnsalamnadiah.nadi.my/event/kelas-keusahawan-modal-perniagaan/
LOCATION:NADI TAMAN SALAM NADIAH\, NADI TAMAN SALAM NADIAH
CATEGORIES:DEFAULT
END:VEVENT
BEGIN:VEVENT
DTSTART;TZID=UTC:20240302T140000
DTEND;TZID=UTC:20240302T150000
DTSTAMP:20260424T050725
CREATED:20240401T144929Z
LAST-MODIFIED:20240401T144929Z
UID:1406-1709388000-1709391600@tmnsalamnadiah.nadi.my
SUMMARY:Asas ICT: Pengenalan Google Meets
DESCRIPTION:Pelajar didedahkan bagaimana menggunakan aplikasi google meets untuk mereka berbincang berkaitan Pelajaran dan sebagainya.
URL:https://tmnsalamnadiah.nadi.my/event/asas-ict-pengenalan-google-meets/
LOCATION:NADI TAMAN SALAM NADIAH\, NADI TAMAN SALAM NADIAH
CATEGORIES:DEFAULT
END:VEVENT
BEGIN:VEVENT
DTSTART;TZID=UTC:20240302T110000
DTEND;TZID=UTC:20240302T120000
DTSTAMP:20260424T050725
CREATED:20240401T145047Z
LAST-MODIFIED:20240401T145047Z
UID:1407-1709377200-1709380800@tmnsalamnadiah.nadi.my
SUMMARY:Asas ICT: Pengenalan komputer
DESCRIPTION:Bertujuan untuk memberi pengetahuan penggunaan komputer dengan cara yang betul
URL:https://tmnsalamnadiah.nadi.my/event/asas-ict-pengenalan-komputer/
LOCATION:NADI TAMAN SALAM NADIAH\, NADI TAMAN SALAM NADIAH
CATEGORIES:DEFAULT
END:VEVENT
BEGIN:VEVENT
DTSTART;TZID=UTC:20240301T153000
DTEND;TZID=UTC:20240301T163000
DTSTAMP:20260424T050725
CREATED:20240401T144626Z
LAST-MODIFIED:20240401T144626Z
UID:1404-1709307000-1709310600@tmnsalamnadiah.nadi.my
SUMMARY:STEM IOT: Water fall Card
DESCRIPTION:Para peserta mempelajari cara kreatif melipat kertas untuk dijadikan nota
URL:https://tmnsalamnadiah.nadi.my/event/stem-iot-water-fall-card/
LOCATION:NADI TAMAN SALAM NADIAH\, NADI TAMAN SALAM NADIAH
CATEGORIES:DEFAULT
END:VEVENT
BEGIN:VEVENT
DTSTART;TZID=UTC:20240301T143000
DTEND;TZID=UTC:20240301T153000
DTSTAMP:20260424T050725
CREATED:20240401T135233Z
LAST-MODIFIED:20240401T135233Z
UID:1396-1709303400-1709307000@tmnsalamnadiah.nadi.my
SUMMARY:Asas ICT: Kelas Ai; Perplexity Ai
DESCRIPTION:Memberi pengetahuan kepada pelajar berkaitan Ai yang lebih bagus untuk pelajar
URL:https://tmnsalamnadiah.nadi.my/event/asas-ict-kelas-ai-perplexity-ai/
LOCATION:NADI TAMAN SALAM NADIAH\, NADI TAMAN SALAM NADIAH
CATEGORIES:DEFAULT
END:VEVENT
BEGIN:VEVENT
DTSTART;TZID=UTC:20240226T100000
DTEND;TZID=UTC:20240226T110000
DTSTAMP:20260424T050725
CREATED:20240302T145420Z
LAST-MODIFIED:20240302T145420Z
UID:1385-1708941600-1708945200@tmnsalamnadiah.nadi.my
SUMMARY:SOFT SKILL:  Kelas Public Speaking
DESCRIPTION:
URL:https://tmnsalamnadiah.nadi.my/event/soft-skill-kelas-public-speaking/
LOCATION:PEDi Taman Salam Nadiah\, PEDi Taman Salam Nadiah
CATEGORIES:DEFAULT
END:VEVENT
BEGIN:VEVENT
DTSTART;TZID=UTC:20240218T120000
DTEND;TZID=UTC:20240218T130000
DTSTAMP:20260424T050725
CREATED:20240302T144305Z
LAST-MODIFIED:20240302T144305Z
UID:1382-1708257600-1708261200@tmnsalamnadiah.nadi.my
SUMMARY:E-Learning: Quiz Easy English
DESCRIPTION:
URL:https://tmnsalamnadiah.nadi.my/event/e-learning-quiz-easy-english/
LOCATION:PEDi Taman Salam Nadiah\, PEDi Taman Salam Nadiah
CATEGORIES:DEFAULT
END:VEVENT
BEGIN:VEVENT
DTSTART;TZID=UTC:20240218T110000
DTEND;TZID=UTC:20240218T120000
DTSTAMP:20260424T050725
CREATED:20240302T144158Z
LAST-MODIFIED:20240302T144158Z
UID:1381-1708254000-1708257600@tmnsalamnadiah.nadi.my
SUMMARY:E-Learning; Kelas Penulisan Asas Bahasa Jepun Online
DESCRIPTION:
URL:https://tmnsalamnadiah.nadi.my/event/e-learning-kelas-penulisan-asas-bahasa-jepun-online/
LOCATION:PEDi Taman Salam Nadiah\, PEDi Taman Salam Nadiah
CATEGORIES:DEFAULT
END:VEVENT
BEGIN:VEVENT
DTSTART;TZID=UTC:20240218T100000
DTEND;TZID=UTC:20240218T110000
DTSTAMP:20260424T050725
CREATED:20240302T144436Z
LAST-MODIFIED:20240302T144436Z
UID:1383-1708250400-1708254000@tmnsalamnadiah.nadi.my
SUMMARY:E-Learning: Bagaimana Ai membantu pelajar dalam pembelajaran Bahasa Melayu
DESCRIPTION:
URL:https://tmnsalamnadiah.nadi.my/event/e-learning-bagaimana-ai-membantu-pelajar-dalam-pembelajaran-bahasa-melayu/
LOCATION:PEDi Taman Salam Nadiah\, PEDi Taman Salam Nadiah
CATEGORIES:DEFAULT
END:VEVENT
BEGIN:VEVENT
DTSTART;TZID=UTC:20240218T100000
DTEND;TZID=UTC:20240218T110000
DTSTAMP:20260424T050725
CREATED:20240302T142819Z
LAST-MODIFIED:20240302T142819Z
UID:1380-1708250400-1708254000@tmnsalamnadiah.nadi.my
SUMMARY:Asas ICT: Kelas Ai
DESCRIPTION:
URL:https://tmnsalamnadiah.nadi.my/event/asas-ict-kelas-ai/
LOCATION:PEDi Taman Salam Nadiah\, PEDi Taman Salam Nadiah
CATEGORIES:DEFAULT
END:VEVENT
BEGIN:VEVENT
DTSTART;TZID=UTC:20240217T160000
DTEND;TZID=UTC:20240217T170000
DTSTAMP:20260424T050725
CREATED:20240302T145824Z
LAST-MODIFIED:20240302T145824Z
UID:1388-1708185600-1708189200@tmnsalamnadiah.nadi.my
SUMMARY:STEM IOT: Eksperimen menanggalkan daki pada badan
DESCRIPTION:
URL:https://tmnsalamnadiah.nadi.my/event/stem-iot-eksperimen-menanggalkan-daki-pada-badan/
LOCATION:PEDi Taman Salam Nadiah\, PEDi Taman Salam Nadiah
CATEGORIES:DEFAULT
END:VEVENT
BEGIN:VEVENT
DTSTART;TZID=UTC:20240217T150000
DTEND;TZID=UTC:20240217T160000
DTSTAMP:20260424T050725
CREATED:20240302T145721Z
LAST-MODIFIED:20240302T145721Z
UID:1387-1708182000-1708185600@tmnsalamnadiah.nadi.my
SUMMARY:STEM IOT: Paper Helicopter
DESCRIPTION:
URL:https://tmnsalamnadiah.nadi.my/event/stem-iot-paper-helicopter/
LOCATION:PEDi Taman Salam Nadiah\, PEDi Taman Salam Nadiah
CATEGORIES:DEFAULT
END:VEVENT
BEGIN:VEVENT
DTSTART;TZID=UTC:20240217T140000
DTEND;TZID=UTC:20240217T150000
DTSTAMP:20260424T050725
CREATED:20240302T145526Z
LAST-MODIFIED:20240302T145526Z
UID:1386-1708178400-1708182000@tmnsalamnadiah.nadi.my
SUMMARY:STEM IOT: Kompas Dari Bahan Terbuang
DESCRIPTION:
URL:https://tmnsalamnadiah.nadi.my/event/stem-iot-kompas-dari-bahan-terbuang/
LOCATION:PEDi Taman Salam Nadiah\, PEDi Taman Salam Nadiah
CATEGORIES:DEFAULT
END:VEVENT
BEGIN:VEVENT
DTSTART;TZID=UTC:20240217T110000
DTEND;TZID=UTC:20240217T120000
DTSTAMP:20260424T050725
CREATED:20240302T150746Z
LAST-MODIFIED:20240302T150746Z
UID:1389-1708167600-1708171200@tmnsalamnadiah.nadi.my
SUMMARY:Asas ICT: Bing Creator imej
DESCRIPTION:
URL:https://tmnsalamnadiah.nadi.my/event/asas-ict-bing-creator-imej/
LOCATION:PEDi Taman Salam Nadiah\, PEDi Taman Salam Nadiah
CATEGORIES:DEFAULT
END:VEVENT
BEGIN:VEVENT
DTSTART;TZID=UTC:20240215T110000
DTEND;TZID=UTC:20240215T123000
DTSTAMP:20260424T050725
CREATED:20240302T142316Z
LAST-MODIFIED:20240302T142316Z
UID:1377-1707994800-1708000200@tmnsalamnadiah.nadi.my
SUMMARY:Kelas keusahawan: Cara membuat slide untuk perniagaan
DESCRIPTION:
URL:https://tmnsalamnadiah.nadi.my/event/kelas-keusahawan-cara-membuat-slide-untuk-perniagaan/
LOCATION:PEDi Taman Salam Nadiah\, PEDi Taman Salam Nadiah
CATEGORIES:DEFAULT
END:VEVENT
BEGIN:VEVENT
DTSTART;TZID=UTC:20240215T110000
DTEND;TZID=UTC:20240215T120000
DTSTAMP:20260424T050725
CREATED:20240302T142651Z
LAST-MODIFIED:20240302T142651Z
UID:1379-1707994800-1707998400@tmnsalamnadiah.nadi.my
SUMMARY:Asas ICT: Kelas internet (What apps web)
DESCRIPTION:
URL:https://tmnsalamnadiah.nadi.my/event/asas-ict-kelas-internet-what-apps-web/
LOCATION:PEDi Taman Salam Nadiah\, PEDi Taman Salam Nadiah
CATEGORIES:DEFAULT
END:VEVENT
BEGIN:VEVENT
DTSTART;TZID=UTC:20240213T110000
DTEND;TZID=UTC:20240213T120000
DTSTAMP:20260424T050725
CREATED:20240302T151147Z
LAST-MODIFIED:20240302T151147Z
UID:1390-1707822000-1707825600@tmnsalamnadiah.nadi.my
SUMMARY:Asas ICT: Time Stamp Camera
DESCRIPTION:
URL:https://tmnsalamnadiah.nadi.my/event/asas-ict-time-stamp-camera/
LOCATION:PEDi Taman Salam Nadiah\, PEDi Taman Salam Nadiah
CATEGORIES:DEFAULT
END:VEVENT
BEGIN:VEVENT
DTSTART;TZID=UTC:20240203T163000
DTEND;TZID=UTC:20240203T173000
DTSTAMP:20260424T050725
CREATED:20240302T142453Z
LAST-MODIFIED:20240302T142453Z
UID:1378-1706977800-1706981400@tmnsalamnadiah.nadi.my
SUMMARY:Kelas keusahawanan: Fungsi PEDi dalam mengembangkan lagi pasaran perniagaan
DESCRIPTION:
URL:https://tmnsalamnadiah.nadi.my/event/kelas-keusahawanan-fungsi-pedi-dalam-mengembangkan-lagi-pasaran-perniagaan/
LOCATION:PEDi Taman Salam Nadiah\, PEDi Taman Salam Nadiah
CATEGORIES:DEFAULT
END:VEVENT
BEGIN:VEVENT
DTSTART;TZID=UTC:20240202T120000
DTEND;TZID=UTC:20240202T130000
DTSTAMP:20260424T050725
CREATED:20240302T145157Z
LAST-MODIFIED:20240302T145157Z
UID:1384-1706875200-1706878800@tmnsalamnadiah.nadi.my
SUMMARY:SOFT SKILL: Keyakinan diri
DESCRIPTION:
URL:https://tmnsalamnadiah.nadi.my/event/soft-skill-keyakinan-diri/
LOCATION:PEDi Taman Salam Nadiah\, PEDi Taman Salam Nadiah
CATEGORIES:DEFAULT
END:VEVENT
END:VCALENDAR