BEGIN:VCALENDAR
VERSION:2.0
PRODID:-//NADI Taman Salam Nadiah - ECPv6.15.13.1//NONSGML v1.0//EN
CALSCALE:GREGORIAN
METHOD:PUBLISH
X-WR-CALNAME:NADI Taman Salam Nadiah
X-ORIGINAL-URL:https://tmnsalamnadiah.nadi.my
X-WR-CALDESC:Events for NADI Taman Salam Nadiah
REFRESH-INTERVAL;VALUE=DURATION:PT1H
X-Robots-Tag:noindex
X-PUBLISHED-TTL:PT1H
BEGIN:VTIMEZONE
TZID:UTC
BEGIN:STANDARD
TZOFFSETFROM:+0000
TZOFFSETTO:+0000
TZNAME:UTC
DTSTART:20230101T000000
END:STANDARD
END:VTIMEZONE
BEGIN:VEVENT
DTSTART;TZID=UTC:20240729T120000
DTEND;TZID=UTC:20240729T130000
DTSTAMP:20260421T180038
CREATED:20240802T093402Z
LAST-MODIFIED:20240802T093402Z
UID:1463-1722254400-1722258000@tmnsalamnadiah.nadi.my
SUMMARY:SOFT SKILL:  Pertandingan Mewarna
DESCRIPTION: Melihat kemahiran dan juga kekemasan serta bakat pelajar
URL:https://tmnsalamnadiah.nadi.my/event/soft-skill-pertandingan-mewarna/
LOCATION:NADI TAMAN SALAM NADIAH\, NADI TAMAN SALAM NADIAH
CATEGORIES:DEFAULT
END:VEVENT
BEGIN:VEVENT
DTSTART;TZID=UTC:20240729T120000
DTEND;TZID=UTC:20240729T130000
DTSTAMP:20260421T180038
CREATED:20240802T084650Z
LAST-MODIFIED:20240802T084650Z
UID:1455-1722254400-1722258000@tmnsalamnadiah.nadi.my
SUMMARY:Kelas keusahawan: Pertandingan Usahawan Proaktif
DESCRIPTION:Memberikan semangat dan mengambarkan pada Masyarakat bahawa usahawan yang NADI bantu dapat mengembangkan perniagaan dengan bantuan yang bertepatan.
URL:https://tmnsalamnadiah.nadi.my/event/kelas-keusahawan-pertandingan-usahawan-proaktif/
LOCATION:NADI TAMAN SALAM NADIAH\, NADI TAMAN SALAM NADIAH
CATEGORIES:DEFAULT
END:VEVENT
BEGIN:VEVENT
DTSTART;TZID=UTC:20240729T110000
DTEND;TZID=UTC:20240729T120000
DTSTAMP:20260421T180038
CREATED:20240802T101656Z
LAST-MODIFIED:20240802T101656Z
UID:1465-1722250800-1722254400@tmnsalamnadiah.nadi.my
SUMMARY:STEM IOT: Tindak balas Kain Basah Terhadap Api Berbanding menjirus air ke atas api.
DESCRIPTION:Memberikan pedendedahan kepada penduduk bahawa peralatan dirumah yang sesuai digunakan untuk mencegah kebakaran.
URL:https://tmnsalamnadiah.nadi.my/event/stem-iot-tindak-balas-kain-basah-terhadap-api-berbanding-menjirus-air-ke-atas-api/
LOCATION:NADI TAMAN SALAM NADIAH\, NADI TAMAN SALAM NADIAH
CATEGORIES:DEFAULT
END:VEVENT
BEGIN:VEVENT
DTSTART;TZID=UTC:20240729T110000
DTEND;TZID=UTC:20240729T120000
DTSTAMP:20260421T180038
CREATED:20240802T093211Z
LAST-MODIFIED:20240802T093211Z
UID:1462-1722250800-1722254400@tmnsalamnadiah.nadi.my
SUMMARY:STEM IOT: Cara mencegah kebakaran
DESCRIPTION:Meningkatkan kesedaran keselamatan berkaitan kebakaran.
URL:https://tmnsalamnadiah.nadi.my/event/stem-iot-cara-mencegah-kebakaran/
LOCATION:NADI TAMAN SALAM NADIAH\, NADI TAMAN SALAM NADIAH
CATEGORIES:DEFAULT
END:VEVENT
BEGIN:VEVENT
DTSTART;TZID=UTC:20240729T100000
DTEND;TZID=UTC:20240729T130000
DTSTAMP:20260421T180038
CREATED:20240802T084425Z
LAST-MODIFIED:20240802T084425Z
UID:1454-1722247200-1722258000@tmnsalamnadiah.nadi.my
SUMMARY:Kelas keusahawan: Pengenalan Jualan secara Cashless
DESCRIPTION:Memperkenalkan transaksi tanpa tunai (Cashless) kepada usahawan NADI
URL:https://tmnsalamnadiah.nadi.my/event/kelas-keusahawan-pengenalan-jualan-secara-cashless/
LOCATION:NADI TAMAN SALAM NADIAH\, NADI TAMAN SALAM NADIAH
CATEGORIES:DEFAULT
END:VEVENT
BEGIN:VEVENT
DTSTART;TZID=UTC:20240721T153000
DTEND;TZID=UTC:20240721T163000
DTSTAMP:20260421T180038
CREATED:20240802T102424Z
LAST-MODIFIED:20240802T102424Z
UID:1468-1721575800-1721579400@tmnsalamnadiah.nadi.my
SUMMARY:Asas ICT: Pengenalan akaun gmail.
DESCRIPTION:Cara mendaftar akaun Gmail
URL:https://tmnsalamnadiah.nadi.my/event/asas-ict-pengenalan-akaun-gmail/
LOCATION:NADI TAMAN SALAM NADIAH\, NADI TAMAN SALAM NADIAH
CATEGORIES:DEFAULT
END:VEVENT
BEGIN:VEVENT
DTSTART;TZID=UTC:20240721T143000
DTEND;TZID=UTC:20240721T153000
DTSTAMP:20260421T180038
CREATED:20240802T102259Z
LAST-MODIFIED:20240802T102259Z
UID:1467-1721572200-1721575800@tmnsalamnadiah.nadi.my
SUMMARY:ASAS ICT: Co-Pilot
DESCRIPTION:belajar menggunakan Google CoPilot\, pelajar boleh meningkatkan kemahiran organisasi\, kolaborasi\, dan pengurusan masa mereka\, sekaligus mempersiapkan mereka untuk dunia pekerjaan yang lebih efisien dan teratur.
URL:https://tmnsalamnadiah.nadi.my/event/asas-ict-co-pilot/
LOCATION:NADI TAMAN SALAM NADIAH\, NADI TAMAN SALAM NADIAH
CATEGORIES:DEFAULT
END:VEVENT
BEGIN:VEVENT
DTSTART;TZID=UTC:20240713T140000
DTEND;TZID=UTC:20240713T150000
DTSTAMP:20260421T180038
CREATED:20240802T092856Z
LAST-MODIFIED:20240802T092856Z
UID:1460-1720879200-1720882800@tmnsalamnadiah.nadi.my
SUMMARY:E-Learning: Kelas Typing/Menaip
DESCRIPTION:Memberi kemahiran kepada pelajar untuk menaip dengan pantas
URL:https://tmnsalamnadiah.nadi.my/event/e-learning-kelas-typing-menaip/
LOCATION:NADI TAMAN SALAM NADIAH\, NADI TAMAN SALAM NADIAH
CATEGORIES:DEFAULT
END:VEVENT
BEGIN:VEVENT
DTSTART;TZID=UTC:20240712T160000
DTEND;TZID=UTC:20240712T170000
DTSTAMP:20260421T180038
CREATED:20240802T092638Z
LAST-MODIFIED:20240802T092638Z
UID:1459-1720800000-1720803600@tmnsalamnadiah.nadi.my
SUMMARY:E-Learning: English Easy Conversation
DESCRIPTION:Memberi peluang pelajar berkomunikasi apa saja yang terlintas dalam fikiran mereka menggunakan Bahasa English yang mudah.
URL:https://tmnsalamnadiah.nadi.my/event/e-learning-english-easy-conversation/
LOCATION:NADI TAMAN SALAM NADIAH\, NADI TAMAN SALAM NADIAH
CATEGORIES:DEFAULT
END:VEVENT
BEGIN:VEVENT
DTSTART;TZID=UTC:20240710T150000
DTEND;TZID=UTC:20240710T160000
DTSTAMP:20260421T180038
CREATED:20240802T085648Z
LAST-MODIFIED:20240802T085648Z
UID:1458-1720623600-1720627200@tmnsalamnadiah.nadi.my
SUMMARY:Asas ICT: Pembelian dalam talian
DESCRIPTION:Menunjukan cara pembelian dalam talian
URL:https://tmnsalamnadiah.nadi.my/event/asas-ict-pembelian-dalam-talian/
LOCATION:NADI TAMAN SALAM NADIAH\, NADI TAMAN SALAM NADIAH
CATEGORIES:DEFAULT
END:VEVENT
BEGIN:VEVENT
DTSTART;TZID=UTC:20240710T140000
DTEND;TZID=UTC:20240710T150000
DTSTAMP:20260421T180038
CREATED:20240802T085513Z
LAST-MODIFIED:20240802T085513Z
UID:1457-1720620000-1720623600@tmnsalamnadiah.nadi.my
SUMMARY:Asas ICT: Kelas Telefon Pintar
DESCRIPTION:Memberi tunjuk ajar cara penggunaan telefon pintar
URL:https://tmnsalamnadiah.nadi.my/event/asas-ict-kelas-telefon-pintar/
LOCATION:NADI TAMAN SALAM NADIAH\, NADI TAMAN SALAM NADIAH
CATEGORIES:DEFAULT
END:VEVENT
BEGIN:VEVENT
DTSTART;TZID=UTC:20240710T100000
DTEND;TZID=UTC:20240710T110000
DTSTAMP:20260421T180038
CREATED:20240802T085333Z
LAST-MODIFIED:20240802T085333Z
UID:1456-1720605600-1720609200@tmnsalamnadiah.nadi.my
SUMMARY:Kelas keusahawanan: Pembuatan QR untuk kegunaan perniagaan
DESCRIPTION:Mengajar usahawan bagaimana untuk membuat QR untuk perniagaan agar lebih efisien
URL:https://tmnsalamnadiah.nadi.my/event/kelas-keusahawanan-pembuatan-qr-untuk-kegunaan-perniagaan/
LOCATION:NADI TAMAN SALAM NADIAH\, NADI TAMAN SALAM NADIAH
CATEGORIES:DEFAULT
END:VEVENT
BEGIN:VEVENT
DTSTART;TZID=UTC:20240706T113000
DTEND;TZID=UTC:20240706T123000
DTSTAMP:20260421T180038
CREATED:20240802T093037Z
LAST-MODIFIED:20240802T093037Z
UID:1461-1720265400-1720269000@tmnsalamnadiah.nadi.my
SUMMARY:E-Learning:Permainan Puzzle Online
DESCRIPTION:Untuk meningkatkan kemahiran berfikir
URL:https://tmnsalamnadiah.nadi.my/event/e-learningpermainan-puzzle-online/
LOCATION:NADI TAMAN SALAM NADIAH\, NADI TAMAN SALAM NADIAH
CATEGORIES:DEFAULT
END:VEVENT
BEGIN:VEVENT
DTSTART;TZID=UTC:20240706T100000
DTEND;TZID=UTC:20240706T110000
DTSTAMP:20260421T180038
CREATED:20240802T101253Z
LAST-MODIFIED:20240802T101253Z
UID:1464-1720260000-1720263600@tmnsalamnadiah.nadi.my
SUMMARY:STEM IOT: Pemasangan DIY rak kasut
DESCRIPTION:Kelas STEM IoT pemasangan rak kasut bertujuan untuk memberikan pendedahan dan pengetahuan kepada pelajar mengenai teknologi Internet of Things (IoT) dan bagaimana ia boleh digunakan dalam pembinaan\,permainan dan sebagainya.
URL:https://tmnsalamnadiah.nadi.my/event/stem-iot-pemasangan-diy-rak-kasut/
LOCATION:NADI TAMAN SALAM NADIAH\, NADI TAMAN SALAM NADIAH
CATEGORIES:DEFAULT
END:VEVENT
BEGIN:VEVENT
DTSTART;TZID=UTC:20240705T103000
DTEND;TZID=UTC:20240705T113000
DTSTAMP:20260421T180038
CREATED:20240802T102100Z
LAST-MODIFIED:20240802T102100Z
UID:1466-1720175400-1720179000@tmnsalamnadiah.nadi.my
SUMMARY:SOFT SKILL: Gubahan Sirih Junjung
DESCRIPTION:kelas soft skill gubahan sirih junjung adalah untuk memupuk kreativiti\, menghargai tradisi\, meningkatkan kemahiran komunikasi\, mengurangkan stres\, dan memberi peluang perniagaan.
URL:https://tmnsalamnadiah.nadi.my/event/soft-skill-gubahan-sirih-junjung/
LOCATION:NADI TAMAN SALAM NADIAH\, NADI TAMAN SALAM NADIAH
CATEGORIES:DEFAULT
END:VEVENT
BEGIN:VEVENT
DTSTART;TZID=UTC:20240622T113000
DTEND;TZID=UTC:20240622T123000
DTSTAMP:20260421T180038
CREATED:20240719T144941Z
LAST-MODIFIED:20240719T144941Z
UID:1446-1719055800-1719059400@tmnsalamnadiah.nadi.my
SUMMARY:E-Learning: Membuat kad ucapan hari bapa guna aplikasi Canva
DESCRIPTION:Pelajar belajar menggunakan aplikasi Canva untuk membuat kad ucapan kepada bapa mereka.
URL:https://tmnsalamnadiah.nadi.my/event/e-learning-membuat-kad-ucapan-hari-bapa-guna-aplikasi-canva/
LOCATION:NADI TAMAN SALAM NADIAH\, NADI TAMAN SALAM NADIAH
CATEGORIES:DEFAULT
END:VEVENT
BEGIN:VEVENT
DTSTART;TZID=UTC:20240621T153000
DTEND;TZID=UTC:20240621T163000
DTSTAMP:20260421T180038
CREATED:20240719T150558Z
LAST-MODIFIED:20240719T150558Z
UID:1449-1718983800-1718987400@tmnsalamnadiah.nadi.my
SUMMARY:STEM IOT: Menanam pokok
DESCRIPTION:STEM IoT Tanam Pokok bertujuan untuk memberikan pendedahan dan pengetahuan kepada pelajar mengenai teknologi Internet of Things (IoT) dan bagaimana ia boleh digunakan dalam pertanian moden
URL:https://tmnsalamnadiah.nadi.my/event/stem-iot-menanam-pokok/
LOCATION:NADI TAMAN SALAM NADIAH\, NADI TAMAN SALAM NADIAH
CATEGORIES:DEFAULT
END:VEVENT
BEGIN:VEVENT
DTSTART;TZID=UTC:20240619T223000
DTEND;TZID=UTC:20240619T233000
DTSTAMP:20260421T180038
CREATED:20240719T151643Z
LAST-MODIFIED:20240719T151643Z
UID:1453-1718836200-1718839800@tmnsalamnadiah.nadi.my
SUMMARY:Asas ICT: Pengenalan Chatgpt
DESCRIPTION:Memperkenalkan fungsi Chatgpt sebagai pembantu peribadi
URL:https://tmnsalamnadiah.nadi.my/event/asas-ict-pengenalan-chatgpt/
LOCATION:NADI TAMAN SALAM NADIAH\, NADI TAMAN SALAM NADIAH
CATEGORIES:DEFAULT
END:VEVENT
BEGIN:VEVENT
DTSTART;TZID=UTC:20240616T113000
DTEND;TZID=UTC:20240616T123000
DTSTAMP:20260421T180038
CREATED:20240719T151503Z
LAST-MODIFIED:20240719T151503Z
UID:1452-1718537400-1718541000@tmnsalamnadiah.nadi.my
SUMMARY:ASAS ICT: Runaway ai
DESCRIPTION:AI membolehkan pengguna dengan mudah mencipta seni digital\, melakukan automatik tugas seperti menghapuskan latar belakang dan membuat video\, sambil memudahkan eksperimen dengan teknologi AI\, kolaborasi dalam projek kreatif\, dan mengurangkan masa yang diperlukan untuk proses editing dan animasi.
URL:https://tmnsalamnadiah.nadi.my/event/asas-ict-runaway-ai/
LOCATION:NADI TAMAN SALAM NADIAH\, NADI TAMAN SALAM NADIAH
CATEGORIES:DEFAULT
END:VEVENT
BEGIN:VEVENT
DTSTART;TZID=UTC:20240615T153000
DTEND;TZID=UTC:20240615T163000
DTSTAMP:20260421T180038
CREATED:20240719T144739Z
LAST-MODIFIED:20240719T144739Z
UID:1445-1718465400-1718469000@tmnsalamnadiah.nadi.my
SUMMARY:E-Learning: Kelas Peribahasa
DESCRIPTION:Mempelajari pribahasa yang mudah berdasarkan gambar
URL:https://tmnsalamnadiah.nadi.my/event/e-learning-kelas-peribahasa/
LOCATION:NADI TAMAN SALAM NADIAH\, NADI TAMAN SALAM NADIAH
CATEGORIES:DEFAULT
END:VEVENT
BEGIN:VEVENT
DTSTART;TZID=UTC:20240615T143000
DTEND;TZID=UTC:20240615T153000
DTSTAMP:20260421T180038
CREATED:20240719T142541Z
LAST-MODIFIED:20240719T142541Z
UID:1443-1718461800-1718465400@tmnsalamnadiah.nadi.my
SUMMARY:Asas ICT: Bing Image Creator
DESCRIPTION:Memperkenalkan fungsi Bing image creator 
URL:https://tmnsalamnadiah.nadi.my/event/asas-ict-bing-image-creator/
LOCATION:NADI TAMAN SALAM NADIAH\, NADI TAMAN SALAM NADIAH
CATEGORIES:DEFAULT
END:VEVENT
BEGIN:VEVENT
DTSTART;TZID=UTC:20240615T110000
DTEND;TZID=UTC:20240615T120000
DTSTAMP:20260421T180038
CREATED:20240719T141907Z
LAST-MODIFIED:20240719T141907Z
UID:1440-1718449200-1718452800@tmnsalamnadiah.nadi.my
SUMMARY:Kelas Keusahawan: Cara membuat iklan dengan mudah dan cepat
DESCRIPTION:Bagaimana membuat iklan yang memenuhi kehendak perniagaan atau membantu dalam urusan seharian.
URL:https://tmnsalamnadiah.nadi.my/event/kelas-keusahawan-cara-membuat-iklan-dengan-mudah-dan-cepat/
LOCATION:NADI TAMAN SALAM NADIAH\, NADI TAMAN SALAM NADIAH
CATEGORIES:DEFAULT
END:VEVENT
BEGIN:VEVENT
DTSTART;TZID=UTC:20240615T100000
DTEND;TZID=UTC:20240615T110000
DTSTAMP:20260421T180038
CREATED:20240719T141719Z
LAST-MODIFIED:20240719T141719Z
UID:1439-1718445600-1718449200@tmnsalamnadiah.nadi.my
SUMMARY:Kelas Keusahawan: Pengenalan Sejati Madani
DESCRIPTION:Memperkenalkan Sejati madani dan siapa yang boleh mendapat manfaat bantuan tersebut
URL:https://tmnsalamnadiah.nadi.my/event/kelas-keusahawan-pengenalan-sejati-madani/
LOCATION:NADI TAMAN SALAM NADIAH\, NADI TAMAN SALAM NADIAH
CATEGORIES:DEFAULT
END:VEVENT
BEGIN:VEVENT
DTSTART;TZID=UTC:20240614T143000
DTEND;TZID=UTC:20240614T153000
DTSTAMP:20260421T180038
CREATED:20240719T142410Z
LAST-MODIFIED:20240719T142410Z
UID:1442-1718375400-1718379000@tmnsalamnadiah.nadi.my
SUMMARY:Asas ICT: Kelas AI untuk rakyat
DESCRIPTION:Memberi pengetahuan berkaitan AI untuk rakyat
URL:https://tmnsalamnadiah.nadi.my/event/asas-ict-kelas-ai-untuk-rakyat/
LOCATION:NADI TAMAN SALAM NADIAH\, NADI TAMAN SALAM NADIAH
CATEGORIES:DEFAULT
END:VEVENT
BEGIN:VEVENT
DTSTART;TZID=UTC:20240607T160000
DTEND;TZID=UTC:20240607T170000
DTSTAMP:20260421T180038
CREATED:20240719T144608Z
LAST-MODIFIED:20240719T144608Z
UID:1444-1717776000-1717779600@tmnsalamnadiah.nadi.my
SUMMARY:E-Learning: Toilet Accessories
DESCRIPTION:Memberi pendedahan sebutan dan nama peralatan dalam tandas secara mudah dan ringkas
URL:https://tmnsalamnadiah.nadi.my/event/e-learning-toilet-accessories/
LOCATION:NADI TAMAN SALAM NADIAH\, NADI TAMAN SALAM NADIAH
CATEGORIES:DEFAULT
END:VEVENT
BEGIN:VEVENT
DTSTART;TZID=UTC:20240607T153000
DTEND;TZID=UTC:20240607T163000
DTSTAMP:20260421T180038
CREATED:20240719T150828Z
LAST-MODIFIED:20240719T150828Z
UID:1451-1717774200-1717777800@tmnsalamnadiah.nadi.my
SUMMARY:SOFT SKILL: Mengira Duit
DESCRIPTION:STEM IoT Kira Duit bertujuan untuk memperkenalkan pelajar kepada konsep teknologi Internet of Things (IoT) dan bagaimana ia boleh digunakan untuk menyelesaikan masalah harian\, seperti pengiraan dan pengurusan kewangan
URL:https://tmnsalamnadiah.nadi.my/event/soft-skill-mengira-duit/
LOCATION:NADI TAMAN SALAM NADIAH\, NADI TAMAN SALAM NADIAH
CATEGORIES:DEFAULT
END:VEVENT
BEGIN:VEVENT
DTSTART;TZID=UTC:20240606T110000
DTEND;TZID=UTC:20240606T130000
DTSTAMP:20260421T180038
CREATED:20240719T142148Z
LAST-MODIFIED:20240719T142148Z
UID:1441-1717671600-1717678800@tmnsalamnadiah.nadi.my
SUMMARY:Kelas Keusahawanan: Bagaimana membuat laporan syarikat dalam bentuk buletin
DESCRIPTION:Mengajar usahawan bagaimana untuk membuat laporan Syarikat dalam bentuk buletin
URL:https://tmnsalamnadiah.nadi.my/event/kelas-keusahawanan-bagaimana-membuat-laporan-syarikat-dalam-bentuk-buletin/
LOCATION:NADI TAMAN SALAM NADIAH\, NADI TAMAN SALAM NADIAH
CATEGORIES:DEFAULT
END:VEVENT
BEGIN:VEVENT
DTSTART;TZID=UTC:20240604T143000
DTEND;TZID=UTC:20240604T153000
DTSTAMP:20260421T180038
CREATED:20240719T150717Z
LAST-MODIFIED:20240719T150717Z
UID:1450-1717511400-1717515000@tmnsalamnadiah.nadi.my
SUMMARY:STEM IOT: DIY Rak Office
DESCRIPTION:Bertujuan untuk memberikan pelajar kemahiran praktikal dalam pembuatan dan reka bentuk sambil mengintegrasikan konsep-konsep STEM
URL:https://tmnsalamnadiah.nadi.my/event/stem-iot-diy-rak-office/
LOCATION:NADI TAMAN SALAM NADIAH\, NADI TAMAN SALAM NADIAH
CATEGORIES:DEFAULT
END:VEVENT
BEGIN:VEVENT
DTSTART;TZID=UTC:20240604T143000
DTEND;TZID=UTC:20240604T153000
DTSTAMP:20260421T180038
CREATED:20240719T145246Z
LAST-MODIFIED:20240719T145246Z
UID:1448-1717511400-1717515000@tmnsalamnadiah.nadi.my
SUMMARY:SOFT SKILL:  Kekemasan pekerjaan yang dilakukan
DESCRIPTION:Memberi pendedahan dan pengajaran kepada pelajar bahawa setiap pekerjaan yang dilakukan mestilah hasilnya memuaskan hati\,kemas dan berfungsi dengan baik.
URL:https://tmnsalamnadiah.nadi.my/event/soft-skill-kekemasan-pekerjaan-yang-dilakukan/
LOCATION:NADI TAMAN SALAM NADIAH\, NADI TAMAN SALAM NADIAH
CATEGORIES:DEFAULT
END:VEVENT
BEGIN:VEVENT
DTSTART;TZID=UTC:20240604T143000
DTEND;TZID=UTC:20240604T153000
DTSTAMP:20260421T180038
CREATED:20240719T145124Z
LAST-MODIFIED:20240719T145124Z
UID:1447-1717511400-1717515000@tmnsalamnadiah.nadi.my
SUMMARY:SOFT SKILL: DIY Rak Pensil
DESCRIPTION:Meningkatkan kemahiran penyelesaian masalah terhadap sesuatu masalah.
URL:https://tmnsalamnadiah.nadi.my/event/soft-skill-diy-rak-pensil/
LOCATION:NADI TAMAN SALAM NADIAH\, NADI TAMAN SALAM NADIAH
CATEGORIES:DEFAULT
END:VEVENT
END:VCALENDAR